BEGIN:VCALENDAR
VERSION:2.0
PRODID:-//SQIFF - ECPv6.15.20//NONSGML v1.0//EN
CALSCALE:GREGORIAN
METHOD:PUBLISH
X-WR-CALNAME:SQIFF
X-ORIGINAL-URL:https://www.sqiff.org
X-WR-CALDESC:Events for SQIFF
REFRESH-INTERVAL;VALUE=DURATION:PT1H
X-Robots-Tag:noindex
X-PUBLISHED-TTL:PT1H
BEGIN:VTIMEZONE
TZID:UTC
BEGIN:STANDARD
TZOFFSETFROM:+0000
TZOFFSETTO:+0000
TZNAME:UTC
DTSTART:20230101T000000
END:STANDARD
END:VTIMEZONE
BEGIN:VEVENT
DTSTART;TZID=UTC:20241010T210000
DTEND;TZID=UTC:20241010T230000
DTSTAMP:20260422T201321
CREATED:20240823T091858Z
LAST-MODIFIED:20241009T185137Z
UID:12193-1728594000-1728601200@www.sqiff.org
SUMMARY:Do you think Memory will ever land on the statue of someone like you and me? - SOLD OUT
DESCRIPTION:🔊 Listen to this Event Page\n        \n    \n**Please note this event is now sold out – we may be able to release more tickets nearer the screening. CCA Box Office are operating a waiting list for sold out events – please contact them directly or go to their website to be added to this!** \nJoin us for an evening of T4T love. This screening features four films that explore the distinct ways in which we build relationships with one another as trans people. These relationships can be romantic\, platonic\, familial\, or even that mutual feeling of care between strangers. The programme starts with I Feel (For) You\, an euphoric documentary about a group of queer and trans friends. This is followed by A Bird Called Memory\, Les garçons dans l’eau\, and Dismantle Me; three narrative fiction films delving into the various ways we give and receive love. This trans-focused programme is an opportunity to reflect on the importance of love within our community. \nGina Gwenffrewi\, an interdisciplinary researcher\, tutor and lecturer in Trans Studies\, Queer Studies and English Literature at the University of Edinburgh\, will give a special introduction to this programme. \nCurated by Indigo Korres. \n  \nTickets are on a pay what you can sliding scale of FREE\, £2\, £4\, £6\, £8\, £10\, or £12. To book\, click here or call the CCA Box Office on 0141 352 4900. \n  \nAccessibility  \nThis programme has: \n\nBritish Sign Language and English audio with English language descriptive subtitles\nEnglish-BSL interpretation for the introduction\nLive Captioning for the introduction\n\nThis screening is 75 minutes long and has an age recommendation of N/C 15+. \nYou can find out more information about accessibility at SQIFF 2024 here. If you have any questions about accessibility at SQIFF 2024\, please get in touch with us at info@sqiff.org or by phone on 07873 331 036. \n  \nFilms in this programme include: \n  \nI Feel (For) You\, Dir. Bella Cintra\, 2023\, Spain\, 7 min \nWe embark on a journey in which the deepest feelings of a group of trans individuals will guide an intimate and emotional relationship between two trans people through their experiences. \nContent notes: Discussion of homophobic slur\, transmisogyny. \n  \nA Bird Called Memory\, Dir. Leonardo Martinelli\, 2023\, Brazil\, 15 min \nA bird called Memory has forgotten how to come back home. Lua\, a trans woman\, tries to find Memory in the streets\, but the city can be a hostile place. \nContent notes: Depiction of transphobia. \n  \nLes garçons dans l’eau\, Dir. Pawel Thomas Larue\, 2023\, France\, 40 min \nEnd of summer on the Breton coast. Oscar invites his group of friends to spend a week’s vacation at his grandparents’ house. He hasn’t been back to his childhood home for years – not since he came out as a trans boy. On the beach\, the gang meets Malo\, a handsome local guy\, also trans. The story is about their meeting\, which will turn everything upside down. \nContent notes: Depiction of sex\, alcohol use\, cigarette use. Discussion of internalised homophobia. \n  \nDismantle Me\, Dir. Max Disgrace\, 2023\, United Kingdom\, 13 min \nA comical proposition turns into an arousing powerplay when a smoldering-hot trans woman helps a heartbroken trans man tidy his messy bedroom. \nAssociate produced by Lilly Wachowski\, Dismantle Me is a dark comedy-romance by trans people of colour\, and created with a majority transgender and non-binary cast and crew. Made in collaboration with Trans+ On Screen. \nContent notes: Depiction of sex\, cuts\, blood. Discussion of sex\, sexual language. \n  \n  \nDonate: \nDonate to SQIFF via PayPal or sign up to one of our four Patreon tiers to support our work and show us you’re a big SQIFF fan 🌈✨ \n  \nImage Credit: Les garçons dans l’eau\, Dir. Pawel Thomas Larue\, 2023
URL:https://www.sqiff.org/event/do-you-think-memory-will-ever-land-on-the-statue-of-someone-like-you-and-me/
LOCATION:Centre for Contemporary Arts\, 350 Sauchiehall Street\, Glasgow\, G2 3JD\, United Kingdom
CATEGORIES:BSL,Films,Live Captioning,Shorts,Trans
ATTACH;FMTTYPE=image/jpeg:https://www.sqiff.org/wp-content/uploads/2024/08/Les-garcons-dans-leau-2.jpg
END:VEVENT
END:VCALENDAR