BEGIN:VCALENDAR
VERSION:2.0
PRODID:-//SQIFF - ECPv6.15.18//NONSGML v1.0//EN
CALSCALE:GREGORIAN
METHOD:PUBLISH
X-ORIGINAL-URL:https://www.sqiff.org
X-WR-CALDESC:Events for SQIFF
REFRESH-INTERVAL;VALUE=DURATION:PT1H
X-Robots-Tag:noindex
X-PUBLISHED-TTL:PT1H
BEGIN:VTIMEZONE
TZID:UTC
BEGIN:STANDARD
TZOFFSETFROM:+0000
TZOFFSETTO:+0000
TZNAME:UTC
DTSTART:20240101T000000
END:STANDARD
END:VTIMEZONE
BEGIN:VEVENT
DTSTART;TZID=UTC:20250218T140000
DTEND;TZID=UTC:20250218T160000
DTSTAMP:20260422T085540
CREATED:20250211T082249Z
LAST-MODIFIED:20250212T134809Z
UID:12593-1739887200-1739894400@www.sqiff.org
SUMMARY:Fantasy Field Recording with Nat Lall
DESCRIPTION:🔊 Listen to this Event Page\n        \n    \n  \nExpect an intro to Foley\, Spatial Audio and my own concept of ‘IRL field recording’. \nFoley lets you create a range of textural sound effects to add into films. Spatial Audio lets you create a physical space with your recordings. It lets your audience transport to vast otherworldly dimensions… without you having to leave the comfort of your home or studio. \nIRL Field Recording is a concept. I coined during my BA in Sound Arts. The soundscapes are dreamed up and carefully devised. The name represents my skeptical views towards the ‘facts’ of science\, reality\, and notably gender. Who constructed these ‘facts’ anyway? Is everything not sci-fi to an extent? \nFacilitated by Nat Lall. \nVenue: Project Space 2\, 2nd floor\, Assembly Building/GSA Students’ Association\, 20 Scott Street. \nPresented in partnership with GSA Students’ Association. \nTickets are FREE. To book\, click here and you’ll be redirected to the GSA Students’ Association website. \n  \nDonate: \nDonate to SQIFF via PayPal or sign up to one of our four Patreon tiers to support our work and show us you’re a big SQIFF fan 🌈✨ \n  \nImage Credit: Tiu Makkonen
URL:https://www.sqiff.org/event/fantasy-field-recording-with-nat-lall/
LOCATION:Project Space 2\, 2nd floor\, Assembly Building/GSA Students' Association\, 20 Scott Street\, Glasgow\, G3 6RJ\, United Kingdom
CATEGORIES:Free event,Trans,Workshops
ATTACH;FMTTYPE=image/jpeg:https://www.sqiff.org/wp-content/uploads/2025/02/SQIFF2024_FRIDAY1110_TiuMakkonen_web-6.jpg
END:VEVENT
END:VCALENDAR