BEGIN:VCALENDAR
VERSION:2.0
PRODID:-//SQIFF - ECPv6.15.18//NONSGML v1.0//EN
CALSCALE:GREGORIAN
METHOD:PUBLISH
X-WR-CALNAME:SQIFF
X-ORIGINAL-URL:https://www.sqiff.org
X-WR-CALDESC:Events for SQIFF
REFRESH-INTERVAL;VALUE=DURATION:PT1H
X-Robots-Tag:noindex
X-PUBLISHED-TTL:PT1H
BEGIN:VTIMEZONE
TZID:UTC
BEGIN:STANDARD
TZOFFSETFROM:+0000
TZOFFSETTO:+0000
TZNAME:UTC
DTSTART:20240101T000000
END:STANDARD
END:VTIMEZONE
BEGIN:VEVENT
DTSTART;TZID=UTC:20251212T180000
DTEND;TZID=UTC:20251213T000000
DTSTAMP:20260421T030354
CREATED:20251216T090209Z
LAST-MODIFIED:20251216T090209Z
UID:13556-1765562400-1765584000@www.sqiff.org
SUMMARY:Castration Movie Anthology ii. The Best of Both Worlds
DESCRIPTION:🔊 Listen to this Event Page\n        \n    \nCastration Movie Anthology ii. The Best of Both Worlds\nDir. Louise Weard | 2025 | 300m (incl. intermission) | DCP\, Digital\nCertificate: 18 | Abusive behaviour\, strong sex\, nudity\, drug misuse \nCastration Movie Anthology i. The Fear of Having No One to Hold at the End of the World\nDir. Louise Weard | 2024 | 275m (incl. intermission) | DCP\, Digital\nCertificate: 18 | Strong sex\, nudity \nCastration Movie is a labyrinthine post-modern epic about gender. The first part of this four-part film includes Chapter i. Incel Superman and Chapter ii. Traps Swan Princess. Castration Movie Anthology ii. The Best of Both Worlds contains one chapter\, Chapter iii. Polygon!!!! Heartmoder. The final two parts are due for release in 2026. \nIn Chapter iii. Polygon!!!! Heartmoder\, Circle (Alex Walton) tries to leave a trans separatist cult in New York. Castration Movie Anthology ii.‘s cast includes Alex Walton (Pomp and Circumstance)\, Ivy Wolk (Anora)\, Jack Haven (I Saw the TV Glow)\, Lea Rose Sebastianis (In a Violent Nature)\, Hesse Deni (Brain Death)\, Theda Hammel (Stress Positions)\, Alexandra McVicker (The Serpent’s Skin)\, Betsey Brown (Actors)\, and Peter Vack (Assholes)\, amongst a mix of other emerging talent and weird and wonderful cameos. \nIncel Superman follows Turner Stewart\, a production assistant who sees his world spiral out of control as he uncompromisingly attempts to shape his life into the one he feels he deserves. Traps Swan Princess follows a trans woman named Michaela “Traps” Sinclair\, a sex worker in Vancouver who splits her time between seeing clients and hanging out with her group of trans friends\, who finds her relationships strained when she decides to pursue motherhood. \nWritten and Directed by Louise Weard\, the film’s cast includes Vera Drew (The People’s Joker)\, Ada Rook (Black Dresses)\, Alice Maio Mackay (T Blockers)\, Avalon Fast (Honeycomb)\, John Paizs (Crime Wave)\, and Lea Rose Sebastianis and Nate Wilson (The All Golden) amongst a mix of other emerging talent and weird and wonderful cameos. The original score was composed by Aoife Josie Clements/Ravine Angel\, with additional music by Magda Baker\, Alex Walton\, and E_DEATH. \nTickets are on a pay what you can sliding scale of FREE\, £4\, £8\, £12\, £16\, or £20. To book your ticket for this event\, click here. \n  \nAccessibility  \nThis programme has: \n\nEnglish audio with English language Descriptive Subtitles\nLive Captioning for introduction and Q&A\n\nThis screening is 300 minutes long. \n  \nDonate: \nDonate to SQIFF via PayPal or sign up to one of our four Patreon tiers to support our work and show us you’re a big SQIFF fan 🌈✨ \n  \nImage Credit: Castration Movie Anthology ii. The Best of Both Worlds\, Dir. Louise Weard\, 2025
URL:https://www.sqiff.org/event/castration-movie-anthology-ii-the-best-of-both-worlds/
LOCATION:GMAC Film\, 103 Trongate\, Glasgow\, Scotland\, G1 5HD\, United Kingdom
CATEGORIES:Descriptive Subtitles,Feature,Live Captioning,Trans
ATTACH;FMTTYPE=image/jpeg:https://www.sqiff.org/wp-content/uploads/2025/12/CastrationMovieAnthologyii-1.jpeg
END:VEVENT
BEGIN:VEVENT
DTSTART;TZID=UTC:20251213T130000
DTEND;TZID=UTC:20251213T183000
DTSTAMP:20260421T030354
CREATED:20251216T090343Z
LAST-MODIFIED:20251216T090428Z
UID:13562-1765630800-1765650600@www.sqiff.org
SUMMARY:Castration Movie Anthology ii. The Best of Both Worlds - SOLD OUT
DESCRIPTION:🔊 Listen to this Event Page\n        \n    \nCastration Movie Anthology ii. The Best of Both Worlds\nDir. Louise Weard | 2025 | 300m (incl. intermission) | DCP\, Digital\nCertificate: 18 | Abusive behaviour\, strong sex\, nudity\, drug misuse \nCastration Movie Anthology i. The Fear of Having No One to Hold at the End of the World\nDir. Louise Weard | 2024 | 275m (incl. intermission) | DCP\, Digital\nCertificate: 18 | Strong sex\, nudity \nCastration Movie is a labyrinthine post-modern epic about gender. The first part of this four-part film includes Chapter i. Incel Superman and Chapter ii. Traps Swan Princess. Castration Movie Anthology ii. The Best of Both Worlds contains one chapter\, Chapter iii. Polygon!!!! Heartmoder. The final two parts are due for release in 2026. \nIn Chapter iii. Polygon!!!! Heartmoder\, Circle (Alex Walton) tries to leave a trans separatist cult in New York. Castration Movie Anthology ii.‘s cast includes Alex Walton (Pomp and Circumstance)\, Ivy Wolk (Anora)\, Jack Haven (I Saw the TV Glow)\, Lea Rose Sebastianis (In a Violent Nature)\, Hesse Deni (Brain Death)\, Theda Hammel (Stress Positions)\, Alexandra McVicker (The Serpent’s Skin)\, Betsey Brown (Actors)\, and Peter Vack (Assholes)\, amongst a mix of other emerging talent and weird and wonderful cameos. \nIncel Superman follows Turner Stewart\, a production assistant who sees his world spiral out of control as he uncompromisingly attempts to shape his life into the one he feels he deserves. Traps Swan Princess follows a trans woman named Michaela “Traps” Sinclair\, a sex worker in Vancouver who splits her time between seeing clients and hanging out with her group of trans friends\, who finds her relationships strained when she decides to pursue motherhood. \nWritten and Directed by Louise Weard\, the film’s cast includes Vera Drew (The People’s Joker)\, Ada Rook (Black Dresses)\, Alice Maio Mackay (T Blockers)\, Avalon Fast (Honeycomb)\, John Paizs (Crime Wave)\, and Lea Rose Sebastianis and Nate Wilson (The All Golden) amongst a mix of other emerging talent and weird and wonderful cameos. The original score was composed by Aoife Josie Clements/Ravine Angel\, with additional music by Magda Baker\, Alex Walton\, and E_DEATH. \nTickets are on a pay what you can sliding scale of FREE\, £4\, £8\, £12\, £16\, or £20. To book your ticket for this event\, click here. \n  \nAccessibility  \nThis programme has: \n\nEnglish audio with English language Descriptive Subtitles\nLive Captioning for introduction and Q&A\n\nThis screening is 300 minutes long. \n  \nDonate: \nDonate to SQIFF via PayPal or sign up to one of our four Patreon tiers to support our work and show us you’re a big SQIFF fan 🌈✨ \n  \nImage Credit: Castration Movie Anthology ii. The Best of Both Worlds\, Dir. Louise Weard\, 2025
URL:https://www.sqiff.org/event/castration-movie-anthology-ii-the-best-of-both-worlds-2/
LOCATION:Edinburgh Filmhouse\, 88 Lothian Road\, Edinburgh\, EH3 9BZ
CATEGORIES:Descriptive Subtitles,Feature,Live Captioning,Trans
ATTACH;FMTTYPE=image/jpeg:https://www.sqiff.org/wp-content/uploads/2025/12/CastrationMovieAnthologyii-1.jpeg
END:VEVENT
END:VCALENDAR