BEGIN:VCALENDAR
VERSION:2.0
PRODID:-//SQIFF - ECPv6.15.18//NONSGML v1.0//EN
CALSCALE:GREGORIAN
METHOD:PUBLISH
X-ORIGINAL-URL:https://www.sqiff.org
X-WR-CALDESC:Events for SQIFF
REFRESH-INTERVAL;VALUE=DURATION:PT1H
X-Robots-Tag:noindex
X-PUBLISHED-TTL:PT1H
BEGIN:VTIMEZONE
TZID:UTC
BEGIN:STANDARD
TZOFFSETFROM:+0000
TZOFFSETTO:+0000
TZNAME:UTC
DTSTART:20230101T000000
END:STANDARD
END:VTIMEZONE
BEGIN:VTIMEZONE
TZID:Europe/London
BEGIN:DAYLIGHT
TZOFFSETFROM:+0000
TZOFFSETTO:+0100
TZNAME:BST
DTSTART:20230326T010000
END:DAYLIGHT
BEGIN:STANDARD
TZOFFSETFROM:+0100
TZOFFSETTO:+0000
TZNAME:GMT
DTSTART:20231029T010000
END:STANDARD
BEGIN:DAYLIGHT
TZOFFSETFROM:+0000
TZOFFSETTO:+0100
TZNAME:BST
DTSTART:20240331T010000
END:DAYLIGHT
BEGIN:STANDARD
TZOFFSETFROM:+0100
TZOFFSETTO:+0000
TZNAME:GMT
DTSTART:20241027T010000
END:STANDARD
BEGIN:DAYLIGHT
TZOFFSETFROM:+0000
TZOFFSETTO:+0100
TZNAME:BST
DTSTART:20250330T010000
END:DAYLIGHT
BEGIN:STANDARD
TZOFFSETFROM:+0100
TZOFFSETTO:+0000
TZNAME:GMT
DTSTART:20251026T010000
END:STANDARD
END:VTIMEZONE
BEGIN:VEVENT
DTSTART;TZID=UTC:20240601T160000
DTEND;TZID=UTC:20240601T180000
DTSTAMP:20260421T130440
CREATED:20230607T144712Z
LAST-MODIFIED:20240720T061721Z
UID:11093-1717257600-1717264800@www.sqiff.org
SUMMARY:SQIFF Queer Filmmakers Group
DESCRIPTION:🔊 Listen to this Event Page\n        \n     \nWelcome to the 12th session of SQIFF’s Queer Filmmakers Group. What a year it has been! \nWe’d like you to join us for a screening of the brand new\, member-made\, SQIFF24 trailer and for a discussion about the festival circuit. We will also reflect about these last 12 months of holding this collaborative space\, what we’ve enjoyed and what we’d like to do next! \nScreening running time: 1 minute. \nThe SQIFF Queer Filmmakers Group is an initiative to bring local queer filmmakers together for monthly two-hour group sessions to network and support each other in the development of film projects. We aim to grow the group to become a collective of queer filmmakers in Glasgow. \nThe group is open for any level of filmmaking or film supporting arts (acting\, prop making\, music and sound design…) and we really encourage people just starting out in these mediums to come along. \nSession (12/12) \nSupported by the National Lottery Community Fund. \nTickets are FREE. To book\, click here \n  \nAccessibility:  \nBSL-English interpretation for the whole event. \nRelaxed event. \nWheelchair Access. \nWe have an Audience Access Fund for travel costs. If you would like to take this up\, please contact info@sqiff.org. \nWe ask that you wear a mask if possible and please don’t attend the event if you have any symptoms of Covid-19 or have been in recent contact with a confirmed case. FFP2 masks are available for this event. \nIf you have any other access needs you would like to discuss with us\, please get in touch with us at info@sqiff.org.
URL:https://www.sqiff.org/event/sqiff-queer-filmmaking-group-12/
LOCATION:Centre for Contemporary Arts\, 350 Sauchiehall Street\, Glasgow\, G2 3JD\, United Kingdom
CATEGORIES:BSL,Discussion,Free event,Workshops
ATTACH;FMTTYPE=image/jpeg:https://www.sqiff.org/wp-content/uploads/2023/06/SQIFF2021_Day1.jpg
END:VEVENT
BEGIN:VEVENT
DTSTART;TZID=Europe/London:20240628T190000
DTEND;TZID=Europe/London:20240628T210000
DTSTAMP:20260421T130440
CREATED:20240514T124748Z
LAST-MODIFIED:20240624T113659Z
UID:11872-1719601200-1719608400@www.sqiff.org
SUMMARY:SQIFF x Porty Pride Film Night
DESCRIPTION:🔊 Listen to this Event Page\n        \n    \n  \nThis year SQIFF and Porty Pride are partnering to bring an exciting selection of short films from Scotland and beyond to Portobello Town Hall! \nThis screening presents a mix of animation\, documentary and fiction film exploring various queer identities. The Singer\, Coming Out Autistic and Living with It are Scottish films made by queer people with various disabilities. Still We Thrive is an experimental documentary directed by Campbell X\, showcasing a rich tapestry of image\, music and poetry is interwoven in this powerful meditation on Black resilience. Digital Natives is a personal film and exploration of Jo’s relationship to the internet. Finally\, Not Quite That is a raw documentary about a queer woman and breast cancer survivor in Canada. The film is an intimate and insightful exploration of how we are seen\, how we see ourselves\, and why it matters. \nJoin us for an incredible conversation after the screening with Scottish filmmaker Holly Summerson\, and hosted by Nat Lall. BSL-English Interpretation\, and wheelchair access are available at this event. \nCurated by Indigo Korres. \nTickets are on a pay what you can sliding scale of £5\, or £10. To book\, please click here. \n  \nThe Singer (2023\, Dir. Cora Bissett): In the loud streets of Glasgow\, deaf song-writer Joe meets busker Andy. The two learn to communicate over their love of music and realise together they can create something unique. \nComing Out Autistic (2023\, Steven Fraser): This animated documentary explores the experience of telling the world that you are autistic when you also identify as LGBTQ+. \nLiving with It (2023\, Holly Summerson): Perfectionist Lee must adapt to the imperfect reality of living with an illness – brought to life as her chaotic supernatural flatmate Bug. \nStill We Thrive (2021\, Campbell X): A rich tapestry of image\, music and poetry is interwoven in this powerful meditation on Black resilience. \nDigital Natives (2022\, Jo Reid): A film by Jo Reid (2022) – an exploration of Jo’s relationship to the internet. \nNot Quite That (2023\, Ali Grant): Might a genetic mutation be the very thing that allows this nice Jewish butch lesbian to be fully seen at last? Meet Sarah\, 57. Lesbian? For sure. Jewish? Yes and no. Mother? In all but one sense. Trans? No\, just often mistaken as such. Breast cancer survivor? Well\, that’s the plan\, the survival bit\, but without the cancer or the breasts. Not Quite That is an intimate and insightful exploration of how we are seen\, how we see ourselves\, and why it matters. \n  \nACCESSIBLITY  \nContent Warnings:  \n\nDiscussion of cancer diagnosis\, surgery\, colonialism\, body image; \nDepictions of pregnancy\, nudity\, drains\, hospitalisation\, ableism.\n\nThis screening has an age recommendation of N/C 16+. \n89 minutes long with a introduction and Q&A. \nEnglish audio and British Sign Language with English language descriptive subtitles. BSL-English interpretation provided. \nIf you have any questions about accessibility at for this event\, please get in touch with us at info@sqiff.org. \nWe ask that you wear a mask if possible and please don’t attend the screening if you have any symptoms of Covid-19 or have been in recent contact with a confirmed case.  \nImage: from Living with It (2023\, Dir. Holly Summerson)
URL:https://www.sqiff.org/event/sqiff-x-porty-pride-film-night/
LOCATION:Portobello Town Hall\, 147-149 Portobello High Street\, Edinburgh\, EH15 1AF
CATEGORIES:BSL,Deaf,Disability,Discussion,Documentary,English language,Films,People of colour,Pride
ATTACH;FMTTYPE=image/jpeg:https://www.sqiff.org/wp-content/uploads/2024/05/Living_With_It_Still_5.jpg
END:VEVENT
END:VCALENDAR